BEGIN:VCALENDAR
VERSION:2.0
PRODID:-//École Fondamentale Autonome de Spy - ECPv6.15.12.2//NONSGML v1.0//EN
CALSCALE:GREGORIAN
METHOD:PUBLISH
X-ORIGINAL-URL:https://efaspy.be
X-WR-CALDESC:Events for École Fondamentale Autonome de Spy
REFRESH-INTERVAL;VALUE=DURATION:PT1H
X-Robots-Tag:noindex
X-PUBLISHED-TTL:PT1H
BEGIN:VTIMEZONE
TZID:Europe/Paris
BEGIN:DAYLIGHT
TZOFFSETFROM:+0100
TZOFFSETTO:+0200
TZNAME:CEST
DTSTART:20250330T010000
END:DAYLIGHT
BEGIN:STANDARD
TZOFFSETFROM:+0200
TZOFFSETTO:+0100
TZNAME:CET
DTSTART:20251026T010000
END:STANDARD
BEGIN:DAYLIGHT
TZOFFSETFROM:+0100
TZOFFSETTO:+0200
TZNAME:CEST
DTSTART:20260329T010000
END:DAYLIGHT
BEGIN:STANDARD
TZOFFSETFROM:+0200
TZOFFSETTO:+0100
TZNAME:CET
DTSTART:20261025T010000
END:STANDARD
BEGIN:DAYLIGHT
TZOFFSETFROM:+0100
TZOFFSETTO:+0200
TZNAME:CEST
DTSTART:20270328T010000
END:DAYLIGHT
BEGIN:STANDARD
TZOFFSETFROM:+0200
TZOFFSETTO:+0100
TZNAME:CET
DTSTART:20271031T010000
END:STANDARD
END:VTIMEZONE
BEGIN:VEVENT
DTSTART;TZID=Europe/Paris:20260421T000000
DTEND;TZID=Europe/Paris:20260421T235959
DTSTAMP:20260422T023252
CREATED:20260211T092239Z
LAST-MODIFIED:20260211T092239Z
UID:1250-1776729600-1776815999@efaspy.be
SUMMARY:Activité Roues Libres pour les P4 à P6
DESCRIPTION:
URL:https://efaspy.be/event/activite-roues-libres-pour-les-p4-a-p6/
END:VEVENT
BEGIN:VEVENT
DTSTART;TZID=Europe/Paris:20260421T153000
DTEND;TZID=Europe/Paris:20260421T190000
DTSTAMP:20260422T023252
CREATED:20250821T083843Z
LAST-MODIFIED:20260211T092137Z
UID:1063-1776785400-1776798000@efaspy.be
SUMMARY:Réunion de parents pour les primaires
DESCRIPTION:
URL:https://efaspy.be/event/reunion-de-parents-pour-les-primaires-2/
END:VEVENT
END:VCALENDAR