BEGIN:VCALENDAR
VERSION:2.0
PRODID:-//École Fondamentale Autonome de Spy - ECPv6.15.12.2//NONSGML v1.0//EN
CALSCALE:GREGORIAN
METHOD:PUBLISH
X-WR-CALNAME:École Fondamentale Autonome de Spy
X-ORIGINAL-URL:https://efaspy.be
X-WR-CALDESC:Events for École Fondamentale Autonome de Spy
REFRESH-INTERVAL;VALUE=DURATION:PT1H
X-Robots-Tag:noindex
X-PUBLISHED-TTL:PT1H
BEGIN:VTIMEZONE
TZID:Europe/Paris
BEGIN:DAYLIGHT
TZOFFSETFROM:+0100
TZOFFSETTO:+0200
TZNAME:CEST
DTSTART:20250330T010000
END:DAYLIGHT
BEGIN:STANDARD
TZOFFSETFROM:+0200
TZOFFSETTO:+0100
TZNAME:CET
DTSTART:20251026T010000
END:STANDARD
BEGIN:DAYLIGHT
TZOFFSETFROM:+0100
TZOFFSETTO:+0200
TZNAME:CEST
DTSTART:20260329T010000
END:DAYLIGHT
BEGIN:STANDARD
TZOFFSETFROM:+0200
TZOFFSETTO:+0100
TZNAME:CET
DTSTART:20261025T010000
END:STANDARD
BEGIN:DAYLIGHT
TZOFFSETFROM:+0100
TZOFFSETTO:+0200
TZNAME:CEST
DTSTART:20270328T010000
END:DAYLIGHT
BEGIN:STANDARD
TZOFFSETFROM:+0200
TZOFFSETTO:+0100
TZNAME:CET
DTSTART:20271031T010000
END:STANDARD
END:VTIMEZONE
BEGIN:VEVENT
DTSTART;TZID=Europe/Paris:20260403T084500
DTEND;TZID=Europe/Paris:20260403T152000
DTSTAMP:20260422T023047
CREATED:20260413T071708Z
LAST-MODIFIED:20260413T071708Z
UID:1295-1775205900-1775229600@efaspy.be
SUMMARY:La poule est passée dans toutes les classes kot kot kot
DESCRIPTION:
URL:https://efaspy.be/event/la-poule-est-passee-dans-toutes-les-classes-kot-kot-kot/
END:VEVENT
END:VCALENDAR