BEGIN:VCALENDAR
VERSION:2.0
PRODID:-//École Fondamentale Autonome de Spy - ECPv6.15.12.2//NONSGML v1.0//EN
CALSCALE:GREGORIAN
METHOD:PUBLISH
X-WR-CALNAME:École Fondamentale Autonome de Spy
X-ORIGINAL-URL:https://efaspy.be
X-WR-CALDESC:Events for École Fondamentale Autonome de Spy
REFRESH-INTERVAL;VALUE=DURATION:PT1H
X-Robots-Tag:noindex
X-PUBLISHED-TTL:PT1H
BEGIN:VTIMEZONE
TZID:Europe/Paris
BEGIN:DAYLIGHT
TZOFFSETFROM:+0100
TZOFFSETTO:+0200
TZNAME:CEST
DTSTART:20250330T010000
END:DAYLIGHT
BEGIN:STANDARD
TZOFFSETFROM:+0200
TZOFFSETTO:+0100
TZNAME:CET
DTSTART:20251026T010000
END:STANDARD
BEGIN:DAYLIGHT
TZOFFSETFROM:+0100
TZOFFSETTO:+0200
TZNAME:CEST
DTSTART:20260329T010000
END:DAYLIGHT
BEGIN:STANDARD
TZOFFSETFROM:+0200
TZOFFSETTO:+0100
TZNAME:CET
DTSTART:20261025T010000
END:STANDARD
BEGIN:DAYLIGHT
TZOFFSETFROM:+0100
TZOFFSETTO:+0200
TZNAME:CEST
DTSTART:20270328T010000
END:DAYLIGHT
BEGIN:STANDARD
TZOFFSETFROM:+0200
TZOFFSETTO:+0100
TZNAME:CET
DTSTART:20271031T010000
END:STANDARD
END:VTIMEZONE
BEGIN:VEVENT
DTSTART;TZID=Europe/Paris:20260316T000000
DTEND;TZID=Europe/Paris:20260316T235959
DTSTAMP:20260423T061730
CREATED:20250821T083723Z
LAST-MODIFIED:20250821T083723Z
UID:1061-1773619200-1773705599@efaspy.be
SUMMARY:« Tambours pour la Paix » organisé par Marjorie Michel
DESCRIPTION:
URL:https://efaspy.be/event/tambours-pour-la-paix-organise-par-marjorie-michel/
END:VEVENT
END:VCALENDAR