BEGIN:VCALENDAR
VERSION:2.0
PRODID:-//École Fondamentale Autonome de Spy - ECPv6.15.12.2//NONSGML v1.0//EN
CALSCALE:GREGORIAN
METHOD:PUBLISH
X-WR-CALNAME:École Fondamentale Autonome de Spy
X-ORIGINAL-URL:https://efaspy.be
X-WR-CALDESC:Events for École Fondamentale Autonome de Spy
REFRESH-INTERVAL;VALUE=DURATION:PT1H
X-Robots-Tag:noindex
X-PUBLISHED-TTL:PT1H
BEGIN:VTIMEZONE
TZID:Europe/Paris
BEGIN:DAYLIGHT
TZOFFSETFROM:+0100
TZOFFSETTO:+0200
TZNAME:CEST
DTSTART:20250330T010000
END:DAYLIGHT
BEGIN:STANDARD
TZOFFSETFROM:+0200
TZOFFSETTO:+0100
TZNAME:CET
DTSTART:20251026T010000
END:STANDARD
BEGIN:DAYLIGHT
TZOFFSETFROM:+0100
TZOFFSETTO:+0200
TZNAME:CEST
DTSTART:20260329T010000
END:DAYLIGHT
BEGIN:STANDARD
TZOFFSETFROM:+0200
TZOFFSETTO:+0100
TZNAME:CET
DTSTART:20261025T010000
END:STANDARD
BEGIN:DAYLIGHT
TZOFFSETFROM:+0100
TZOFFSETTO:+0200
TZNAME:CEST
DTSTART:20270328T010000
END:DAYLIGHT
BEGIN:STANDARD
TZOFFSETFROM:+0200
TZOFFSETTO:+0100
TZNAME:CET
DTSTART:20271031T010000
END:STANDARD
END:VTIMEZONE
BEGIN:VEVENT
DTSTART;TZID=Europe/Paris:20260303T103000
DTEND;TZID=Europe/Paris:20260303T120000
DTSTAMP:20260424T014051
CREATED:20260211T091124Z
LAST-MODIFIED:20260211T091124Z
UID:1232-1772533800-1772539200@efaspy.be
SUMMARY:Activité concernant le métier de reporter de guerre - A.R. Baudouin 1er pour les P4 à P6
DESCRIPTION:
URL:https://efaspy.be/event/activite-concernant-le-metier-de-reporter-de-guerre-a-r-baudouin-1er-pour-les-p4-a-p6/
END:VEVENT
END:VCALENDAR